BEGIN:VCALENDAR
VERSION:2.0
PRODID:-//Sabre//Sabre VObject 4.5.8//EN
CALSCALE:GREGORIAN
BEGIN:VEVENT
UID:sabre-vobject-3fa5e7e3-7f53-490a-bb34-7e89d245556c
DTSTAMP:20260424T175639Z
SUMMARY:Maiandacht mit Wemding-Wallfahrer - Opfer f. d. Maialtar
DESCRIPTION:https://www2.bistum-augsburg.de/gottesdienste/maiandacht-mit-we
 mding-wallfahrer-opfer-f-d-maialtar_id1726602
DTSTART;TZID=Europe/Berlin:20260503T180000
DURATION:PT30M
LOCATION:St. Martin\, Vogteistraße 6\, 89446 Ziertheim
END:VEVENT
END:VCALENDAR
