BEGIN:VCALENDAR
VERSION:2.0
PRODID:-//Sabre//Sabre VObject 4.5.8//EN
CALSCALE:GREGORIAN
BEGIN:VEVENT
UID:sabre-vobject-0d45bf45-d109-4efc-8ae7-56f6158805c2
DTSTAMP:20260424T203310Z
SUMMARY:Messe
DESCRIPTION:https://www2.bistum-augsburg.de/gottesdienste/messe_id1726603
DTSTART;TZID=Europe/Berlin:20260510T100000
DURATION:PT30M
LOCATION:St. Johannes Baptist
END:VEVENT
END:VCALENDAR
