BEGIN:VCALENDAR
VERSION:2.0
PRODID:-//Sabre//Sabre VObject 4.5.8//EN
CALSCALE:GREGORIAN
BEGIN:VEVENT
UID:sabre-vobject-6ed186a3-dfe7-4cab-8d6f-7f8a22be95bf
DTSTAMP:20260424T070715Z
SUMMARY:Heilige Messe
DESCRIPTION:https://www2.bistum-augsburg.de/gottesdienste/heilige-messe_id1
 726606
DTSTART;TZID=Europe/Berlin:20260517T100000
DURATION:PT30M
LOCATION:St. Nikolaus\, Römerstraße 23\, 86424 Fleinhausen
END:VEVENT
END:VCALENDAR
