BEGIN:VCALENDAR
VERSION:2.0
PRODID:-//Sabre//Sabre VObject 4.5.8//EN
CALSCALE:GREGORIAN
BEGIN:VEVENT
UID:sabre-vobject-4c2cd9c9-f938-45c2-bd9e-ac7fd1a3a05f
DTSTAMP:20260424T064613Z
SUMMARY:Bittgang nach Fleinhausen
DESCRIPTION:https://www2.bistum-augsburg.de/gottesdienste/bittgang-nach-fle
 inhausen_id1726611
DTSTART;TZID=Europe/Berlin:20260514T083000
DURATION:PT30M
LOCATION:St. Peter und Paul\, Kirchbergstraße 2\, 86424 Grünenbaindt
END:VEVENT
END:VCALENDAR
