BEGIN:VCALENDAR
VERSION:2.0
PRODID:-//Sabre//Sabre VObject 4.5.8//EN
CALSCALE:GREGORIAN
BEGIN:VEVENT
UID:sabre-vobject-ebffb505-c83b-4e73-a063-88089e0627ee
DTSTAMP:20260425T021506Z
SUMMARY:Feierliche Maiandacht
DESCRIPTION:https://www2.bistum-augsburg.de/gottesdienste/feierliche-maiand
 acht_id1726619
DTSTART;TZID=Europe/Berlin:20260521T190000
DURATION:PT30M
LOCATION:St. Nikolaus\, Schulstr. 1\, 86932 Lengenfeld
END:VEVENT
END:VCALENDAR
