BEGIN:VCALENDAR
VERSION:2.0
PRODID:-//Sabre//Sabre VObject 4.5.8//EN
CALSCALE:GREGORIAN
BEGIN:VEVENT
UID:sabre-vobject-476c06ca-3a2d-43bb-a842-0a5ca7556efd
DTSTAMP:20260423T115549Z
SUMMARY:Vorabendmesse anschl. Eine-Welt-Verkauf - 17:25 Uhr Rosenkranz für
  den Frieden
DESCRIPTION:https://www2.bistum-augsburg.de/gottesdienste/vorabendmesse-ans
 chl-eine-welt-verkauf-17-25-uhr-rosenkranz-fuer-den-frieden_id1726641
DTSTART;TZID=Europe/Berlin:20260502T180000
DURATION:PT30M
LOCATION:St. Stephanus
END:VEVENT
END:VCALENDAR
