BEGIN:VCALENDAR
VERSION:2.0
PRODID:-//Sabre//Sabre VObject 4.5.8//EN
CALSCALE:GREGORIAN
BEGIN:VEVENT
UID:sabre-vobject-8a2de56b-096b-42cb-8fe0-faaa4a5bde69
DTSTAMP:20260425T214637Z
SUMMARY:Hl. Messe
DESCRIPTION:https://www2.bistum-augsburg.de/gottesdienste/hl-messe_id172666
 2
DTSTART;TZID=Europe/Berlin:20260517T084500
DURATION:PT30M
LOCATION:St. Vitus\, Bergstr. 14\, 86946 Vilgertshofen-Mundraching
END:VEVENT
END:VCALENDAR
