BEGIN:VCALENDAR
VERSION:2.0
PRODID:-//Sabre//Sabre VObject 4.5.8//EN
CALSCALE:GREGORIAN
BEGIN:VEVENT
UID:sabre-vobject-c1b684e4-6f6a-487d-9ed5-746cd4d0b908
DTSTAMP:20260424T045400Z
SUMMARY:Wort-Gottes-Feier
DESCRIPTION:https://www2.bistum-augsburg.de/gottesdienste/wort-gottes-feier
 _id1726667
DTSTART;TZID=Europe/Berlin:20260515T183000
DURATION:PT30M
LOCATION:St. Georg\, Kirchberg 3\, 86517 Wehringen
END:VEVENT
END:VCALENDAR
