BEGIN:VCALENDAR
VERSION:2.0
PRODID:-//Sabre//Sabre VObject 4.5.8//EN
CALSCALE:GREGORIAN
BEGIN:VEVENT
UID:sabre-vobject-f5b7a705-a021-4c32-a2d5-54c64ced2748
DTSTAMP:20260424T083925Z
SUMMARY:Festgottesdienst als PG-Gottesdienst vor dem Vereinsheim\, musik. g
 est. von der Musikvereinigung\, anschl. gemütliches Beisammensein. Bei Re
 gen ist die Hl. Messe um 9.00 Uhr in der St.-Simpert
DESCRIPTION:https://www2.bistum-augsburg.de/gottesdienste/festgottesdienst-
 als-pg-gottesdienst-vor-dem-vereinsheim-musik-gest-von-der-musikvereinigun
 g-anschl-gemuetliches-beisammensein-bei-regen-ist-die-hl-messe-um-9-00-uhr
 -in-der-st-simpert_id1726677
DTSTART;TZID=Europe/Berlin:20260514T090000
DURATION:PT30M
LOCATION:St. Nikolaus\, Römerstraße 23\, 86424 Fleinhausen
END:VEVENT
END:VCALENDAR
