BEGIN:VCALENDAR
VERSION:2.0
PRODID:-//Sabre//Sabre VObject 4.5.8//EN
CALSCALE:GREGORIAN
BEGIN:VEVENT
UID:sabre-vobject-66d19925-8f5b-44f2-8f79-74e559f09f02
DTSTAMP:20260423T035642Z
SUMMARY:Wortgottesfeier
DESCRIPTION:https://www2.bistum-augsburg.de/gottesdienste/wortgottesfeier_i
 d1726678
DTSTART;TZID=Europe/Berlin:20260503T090000
DURATION:PT30M
LOCATION:St. Dionysius
END:VEVENT
END:VCALENDAR
