BEGIN:VCALENDAR
VERSION:2.0
PRODID:-//Sabre//Sabre VObject 4.5.8//EN
CALSCALE:GREGORIAN
BEGIN:VEVENT
UID:sabre-vobject-d34b5be7-512c-421b-8bfa-897de7770a0b
DTSTAMP:20260425T021239Z
SUMMARY:FamGD:
DESCRIPTION:https://www2.bistum-augsburg.de/gottesdienste/famgd_id1726684
DTSTART;TZID=Europe/Berlin:20260510T100000
DURATION:PT30M
LOCATION:St. Vitus
END:VEVENT
END:VCALENDAR
