BEGIN:VCALENDAR
VERSION:2.0
PRODID:-//Sabre//Sabre VObject 4.5.8//EN
CALSCALE:GREGORIAN
BEGIN:VEVENT
UID:sabre-vobject-283ba284-e7cc-41e9-832a-16b676aefd47
DTSTAMP:20260425T192240Z
SUMMARY:Heilige Messe
DESCRIPTION:https://www2.bistum-augsburg.de/gottesdienste/heilige-messe_id1
 726693
DTSTART;TZID=Europe/Berlin:20260510T100000
DURATION:PT30M
LOCATION:St. Felizitas und Söhne\, Kirchstraße 2\, 86424 Anried
END:VEVENT
END:VCALENDAR
