BEGIN:VCALENDAR
VERSION:2.0
PRODID:-//Sabre//Sabre VObject 4.5.8//EN
CALSCALE:GREGORIAN
BEGIN:VEVENT
UID:sabre-vobject-730899a2-1e20-4625-b72f-723d7b3b1a3d
DTSTAMP:20260425T020947Z
SUMMARY:Maiandacht
DESCRIPTION:https://www2.bistum-augsburg.de/gottesdienste/maiandacht_id1726
 697
DTSTART;TZID=Europe/Berlin:20260516T194500
DURATION:PT30M
LOCATION:St. Felizitas und Söhne\, Kirchstraße 2\, 86424 Anried
END:VEVENT
END:VCALENDAR
