BEGIN:VCALENDAR
VERSION:2.0
PRODID:-//Sabre//Sabre VObject 4.5.8//EN
CALSCALE:GREGORIAN
BEGIN:VEVENT
UID:sabre-vobject-d04801de-7753-4402-9fe4-b5a7549231f8
DTSTAMP:20260424T220603Z
SUMMARY:St. Martin - Festgottesdienst mit Flurumgang
DESCRIPTION:https://www2.bistum-augsburg.de/gottesdienste/st-martin-festgot
 tesdienst-mit-flurumgang_id1726730
DTSTART;TZID=Europe/Berlin:20260514T101500
DURATION:PT30M
LOCATION:St. Martin
END:VEVENT
END:VCALENDAR
