BEGIN:VCALENDAR
VERSION:2.0
PRODID:-//Sabre//Sabre VObject 4.5.8//EN
CALSCALE:GREGORIAN
BEGIN:VEVENT
UID:sabre-vobject-d21fdff5-dee7-4657-8791-2e50bfa9f906
DTSTAMP:20260424T131239Z
SUMMARY:Andechswallfahrt der Pfarrei Thaining\n\n6:00 	Beginn Andechswallfa
 hrt in der Pfarrkirche\n	10:15	Abfahrt Schiff in Riederau\n	12:00 	Wallfah
 rtsmesse in Andechs mus. gest. Kirchenchor Thaining\n	
DESCRIPTION:https://www2.bistum-augsburg.de/gottesdienste/andechswallfahrt-
 der-pfarrei-thaining-6-00-beginn-andechswallfahrt-in-der-pfarrkirche-10-15
 -abfahrt-schiff-in-riederau-12-00-wallfahrtsmesse-in-andechs-mus-gest-kirc
 henchor-thaining_id1726731
DTSTART;TZID=Europe/Berlin:20260516T000000
DURATION:PT30M
LOCATION:St. Martin
END:VEVENT
END:VCALENDAR
