BEGIN:VCALENDAR
VERSION:2.0
PRODID:-//Sabre//Sabre VObject 4.5.8//EN
CALSCALE:GREGORIAN
BEGIN:VEVENT
UID:sabre-vobject-dfc6fed3-0fc6-411a-8c9e-c349b4d52099
DTSTAMP:20260425T114427Z
SUMMARY:Senioren-Mittagstisch beim alten Wirt (mit Anmeldung)
DESCRIPTION:https://www2.bistum-augsburg.de/gottesdienste/senioren-mittagst
 isch-beim-alten-wirt-mit-anmeldung_id1726732
DTSTART;TZID=Europe/Berlin:20260529T120000
DURATION:PT30M
LOCATION:St. Martin
END:VEVENT
END:VCALENDAR
