BEGIN:VCALENDAR
VERSION:2.0
PRODID:-//Sabre//Sabre VObject 4.5.8//EN
CALSCALE:GREGORIAN
BEGIN:VEVENT
UID:sabre-vobject-42aaaf1f-6fcb-41c2-94a4-43ca8de2e670
DTSTAMP:20260425T014734Z
SUMMARY:St. Wolfgang - Hl. Messe
DESCRIPTION:https://www2.bistum-augsburg.de/gottesdienste/st-wolfgang-hl-me
 sse_id1726735
DTSTART;TZID=Europe/Berlin:20260521T190000
DURATION:PT30M
LOCATION:St. Martin
END:VEVENT
END:VCALENDAR
