BEGIN:VCALENDAR
VERSION:2.0
PRODID:-//Sabre//Sabre VObject 4.5.8//EN
CALSCALE:GREGORIAN
BEGIN:VEVENT
UID:sabre-vobject-bd7ad6fd-c9c4-4081-80c3-a5cccea79873
DTSTAMP:20260425T202755Z
SUMMARY:St. Martin Taufe
DESCRIPTION:https://www2.bistum-augsburg.de/gottesdienste/st-martin-taufe_i
 d1726736
DTSTART;TZID=Europe/Berlin:20260509T140000
DURATION:PT30M
LOCATION:St. Martin
END:VEVENT
END:VCALENDAR
