BEGIN:VCALENDAR
VERSION:2.0
PRODID:-//Sabre//Sabre VObject 4.5.8//EN
CALSCALE:GREGORIAN
BEGIN:VEVENT
UID:sabre-vobject-99c4ae99-983d-49b1-9bb7-f8c1d208f0af
DTSTAMP:20260421T134317Z
SUMMARY:Heilige Messe im Notburgaheim
DESCRIPTION:https://www2.bistum-augsburg.de/gottesdienste/heilige-messe-im-
 notburgaheim_id1726748
DTSTART;TZID=Europe/Berlin:20260502T100000
DURATION:PT30M
LOCATION:St. Nikolaus v. Flüe
END:VEVENT
END:VCALENDAR
