BEGIN:VCALENDAR
VERSION:2.0
PRODID:-//Sabre//Sabre VObject 4.5.8//EN
CALSCALE:GREGORIAN
BEGIN:VEVENT
UID:sabre-vobject-a0df7622-af7a-4ffb-93cc-9f1ae0b4f52a
DTSTAMP:20260424T200749Z
SUMMARY:Messe  - Bittgang  Treffpunkt vor der Kirche Rinnenthal um 18.45 Uh
 r
DESCRIPTION:https://www2.bistum-augsburg.de/gottesdienste/messe-bittgang-tr
 effpunkt-vor-der-kirche-rinnenthal-um-18-45-uhr_id1726767
DTSTART;TZID=Europe/Berlin:20260512T190000
DURATION:PT30M
LOCATION:St. Peter und Paul
END:VEVENT
END:VCALENDAR
