BEGIN:VCALENDAR
VERSION:2.0
PRODID:-//Sabre//Sabre VObject 4.5.8//EN
CALSCALE:GREGORIAN
BEGIN:VEVENT
UID:sabre-vobject-6f7da3d3-5a88-4b57-8564-446a8528e0b9
DTSTAMP:20260423T223820Z
SUMMARY:Sternwallfahrt nach Tandern
DESCRIPTION:https://www2.bistum-augsburg.de/gottesdienste/sternwallfahrt-na
 ch-tandern_id1726777
DTSTART;TZID=Europe/Berlin:20260514T093000
DURATION:PT30M
LOCATION:St. Dionysius
END:VEVENT
END:VCALENDAR
