BEGIN:VCALENDAR
VERSION:2.0
PRODID:-//Sabre//Sabre VObject 4.5.8//EN
CALSCALE:GREGORIAN
BEGIN:VEVENT
UID:sabre-vobject-16b32c3b-46f5-4cea-9cf3-c955840213f2
DTSTAMP:20260424T063246Z
SUMMARY:Hl. Messe entfällt
DESCRIPTION:https://www2.bistum-augsburg.de/gottesdienste/hl-messe-entfaell
 t_id1726784
DTSTART;TZID=Europe/Berlin:20260512T000000
DURATION:PT30M
LOCATION:St. Ulrich
END:VEVENT
END:VCALENDAR
