BEGIN:VCALENDAR
VERSION:2.0
PRODID:-//Sabre//Sabre VObject 4.5.8//EN
CALSCALE:GREGORIAN
BEGIN:VEVENT
UID:sabre-vobject-4e358089-cfdb-42da-b951-3bb07845b992
DTSTAMP:20260425T161211Z
SUMMARY:Hl. Messe
DESCRIPTION:https://www2.bistum-augsburg.de/gottesdienste/hl-messe_id172679
 0
DTSTART;TZID=Europe/Berlin:20260510T101500
DURATION:PT30M
LOCATION:St. Lorenz\, Kirchsteig 1\, 86946 Pflugdorf
END:VEVENT
END:VCALENDAR
