BEGIN:VCALENDAR
VERSION:2.0
PRODID:-//Sabre//Sabre VObject 4.5.8//EN
CALSCALE:GREGORIAN
BEGIN:VEVENT
UID:sabre-vobject-1db5fb0b-b2cd-49bf-bbde-0dbb03a28f6c
DTSTAMP:20260424T161716Z
SUMMARY:Vorabendmesse - entfällt
DESCRIPTION:https://www2.bistum-augsburg.de/gottesdienste/vorabendmesse-ent
 faellt_id1726799
DTSTART;TZID=Europe/Berlin:20260509T183000
DURATION:PT30M
LOCATION:St. Antonius\, Schweglerstraße 1\, 86495 Eurasburg
END:VEVENT
END:VCALENDAR
