BEGIN:VCALENDAR
VERSION:2.0
PRODID:-//Sabre//Sabre VObject 4.5.8//EN
CALSCALE:GREGORIAN
BEGIN:VEVENT
UID:sabre-vobject-5bc5b20e-61a8-4552-b6c5-e1c257549528
DTSTAMP:20260425T223451Z
SUMMARY:Festgottesdienst zu Ehren der Muttergottes\,
DESCRIPTION:https://www2.bistum-augsburg.de/gottesdienste/festgottesdienst-
 zu-ehren-der-muttergottes_id1726822
DTSTART;TZID=Europe/Berlin:20260501T100000
DURATION:PT30M
LOCATION:Mariä Schmerzen
END:VEVENT
END:VCALENDAR
