BEGIN:VCALENDAR
VERSION:2.0
PRODID:-//Sabre//Sabre VObject 4.5.8//EN
CALSCALE:GREGORIAN
BEGIN:VEVENT
UID:sabre-vobject-f8adeb3e-a842-4466-b3c8-a4d261ca6201
DTSTAMP:20260424T033233Z
SUMMARY:Start zum Bittgang von den Pfarrkirchen (mit dem Fahrrad in  O)
DESCRIPTION:https://www2.bistum-augsburg.de/gottesdienste/start-zum-bittgan
 g-von-den-pfarrkirchen-mit-dem-fahrrad-in-o_id1726823
DTSTART;TZID=Europe/Berlin:20260511T180000
DURATION:PT30M
LOCATION:St. Georg\, Kirchberg 3\, 86517 Wehringen
END:VEVENT
END:VCALENDAR
