BEGIN:VCALENDAR
VERSION:2.0
PRODID:-//Sabre//Sabre VObject 4.5.8//EN
CALSCALE:GREGORIAN
BEGIN:VEVENT
UID:sabre-vobject-673339cd-ba37-4ec0-b9fb-b1cc26904d08
DTSTAMP:20260422T211828Z
SUMMARY:Rosenkranz
DESCRIPTION:https://www2.bistum-augsburg.de/gottesdienste/rosenkranz_id1726
 829
DTSTART;TZID=Europe/Berlin:20260426T133000
DURATION:PT30M
LOCATION:St. Pankratius
END:VEVENT
END:VCALENDAR
