BEGIN:VCALENDAR
VERSION:2.0
PRODID:-//Sabre//Sabre VObject 4.5.8//EN
CALSCALE:GREGORIAN
BEGIN:VEVENT
UID:sabre-vobject-ed68f61d-cd31-4c20-92cf-ddd71f9337da
DTSTAMP:20260423T155014Z
SUMMARY:Hl. Messe
DESCRIPTION:https://www2.bistum-augsburg.de/gottesdienste/hl-messe_id172683
 2
DTSTART;TZID=Europe/Berlin:20260506T090000
DURATION:PT30M
LOCATION:St. Margaretha
END:VEVENT
END:VCALENDAR
