BEGIN:VCALENDAR
VERSION:2.0
PRODID:-//Sabre//Sabre VObject 4.5.8//EN
CALSCALE:GREGORIAN
BEGIN:VEVENT
UID:sabre-vobject-e285d287-9570-4a98-8f43-754dcc568a1d
DTSTAMP:20260423T221626Z
SUMMARY:Maiandacht
DESCRIPTION:https://www2.bistum-augsburg.de/gottesdienste/maiandacht_id1726
 833
DTSTART;TZID=Europe/Berlin:20260508T090000
DURATION:PT30M
LOCATION:St. Margaretha
END:VEVENT
END:VCALENDAR
