BEGIN:VCALENDAR
VERSION:2.0
PRODID:-//Sabre//Sabre VObject 4.5.8//EN
CALSCALE:GREGORIAN
BEGIN:VEVENT
UID:sabre-vobject-088a00f0-8d17-4251-af01-d5a724f9b663
DTSTAMP:20260425T155426Z
SUMMARY:Heilige Messe anschl. Maiandacht
DESCRIPTION:https://www2.bistum-augsburg.de/gottesdienste/heilige-messe-ans
 chl-maiandacht_id1726841
DTSTART;TZID=Europe/Berlin:20260501T180000
DURATION:PT30M
LOCATION:Zum Guten Hirten
END:VEVENT
END:VCALENDAR
