BEGIN:VCALENDAR
VERSION:2.0
PRODID:-//Sabre//Sabre VObject 4.5.8//EN
CALSCALE:GREGORIAN
BEGIN:VEVENT
UID:sabre-vobject-8b6f1bcf-0db1-47de-aa39-dca31e6bd3cc
DTSTAMP:20260425T223310Z
SUMMARY:Rosenkranz u. Beichtgelegenheit
DESCRIPTION:https://www2.bistum-augsburg.de/gottesdienste/rosenkranz-u-beic
 htgelegenheit_id1726865
DTSTART;TZID=Europe/Berlin:20260425T180000
DURATION:PT30M
LOCATION:Zum Guten Hirten
END:VEVENT
END:VCALENDAR
