BEGIN:VCALENDAR
VERSION:2.0
PRODID:-//Sabre//Sabre VObject 4.5.8//EN
CALSCALE:GREGORIAN
BEGIN:VEVENT
UID:sabre-vobject-950ecbb4-1336-4639-8aa8-2590d0983144
DTSTAMP:20260424T113252Z
SUMMARY:Pfarrausflug nach Dillingen von der PG Haldenwang-Lauben
DESCRIPTION:https://www2.bistum-augsburg.de/gottesdienste/pfarrausflug-nach
 -dillingen-von-der-pg-haldenwang-lauben_id1726887
DTSTART;TZID=Europe/Berlin:20260516T000000
DURATION:PT30M
LOCATION:St. Theodor
END:VEVENT
END:VCALENDAR
