BEGIN:VCALENDAR
VERSION:2.0
PRODID:-//Sabre//Sabre VObject 4.5.8//EN
CALSCALE:GREGORIAN
BEGIN:VEVENT
UID:sabre-vobject-72223536-a2bd-4420-8b30-237469c124bb
DTSTAMP:20260423T211459Z
SUMMARY:Maiandacht
DESCRIPTION:https://www2.bistum-augsburg.de/gottesdienste/maiandacht_id1726
 904
DTSTART;TZID=Europe/Berlin:20260525T190000
DURATION:PT30M
LOCATION:St. Theodor
END:VEVENT
END:VCALENDAR
