BEGIN:VCALENDAR
VERSION:2.0
PRODID:-//Sabre//Sabre VObject 4.5.8//EN
CALSCALE:GREGORIAN
BEGIN:VEVENT
UID:sabre-vobject-b320b905-340d-4552-a2b3-8f1052a0daef
DTSTAMP:20260425T114348Z
SUMMARY:Feierliche Vesper
DESCRIPTION:https://www2.bistum-augsburg.de/gottesdienste/feierliche-vesper
 _id1726909
DTSTART;TZID=Europe/Berlin:20260529T190000
DURATION:PT30M
LOCATION:St. Theodor
END:VEVENT
END:VCALENDAR
