BEGIN:VCALENDAR
VERSION:2.0
PRODID:-//Sabre//Sabre VObject 4.5.8//EN
CALSCALE:GREGORIAN
BEGIN:VEVENT
UID:sabre-vobject-1d364e21-9bf7-4aea-bdb2-e4f91cf35fe9
DTSTAMP:20260424T234055Z
SUMMARY:Kinderkirche
DESCRIPTION:https://www2.bistum-augsburg.de/gottesdienste/kinderkirche_id17
 26930
DTSTART;TZID=Europe/Berlin:20260503T103000
DURATION:PT30M
LOCATION:St. Ulrich
END:VEVENT
END:VCALENDAR
