BEGIN:VCALENDAR
VERSION:2.0
PRODID:-//Sabre//Sabre VObject 4.5.8//EN
CALSCALE:GREGORIAN
BEGIN:VEVENT
UID:sabre-vobject-8fd43d46-6b04-4ead-bd97-52c6bd9e4c28
DTSTAMP:20260425T030133Z
SUMMARY:Maiwanderung der Kolpingsfamilie oder Fahrt zur Einkehr ab dem Pfar
 rheim
DESCRIPTION:https://www2.bistum-augsburg.de/gottesdienste/maiwanderung-der-
 kolpingsfamilie-oder-fahrt-zur-einkehr-ab-dem-pfarrheim_id1726939
DTSTART;TZID=Europe/Berlin:20260501T100000
DURATION:PT30M
LOCATION:St. Theodor
END:VEVENT
END:VCALENDAR
