BEGIN:VCALENDAR
VERSION:2.0
PRODID:-//Sabre//Sabre VObject 4.5.8//EN
CALSCALE:GREGORIAN
BEGIN:VEVENT
UID:sabre-vobject-4dac50b9-1bde-470c-9658-35943b86d06e
DTSTAMP:20260424T044302Z
SUMMARY:Senioren-Bildungsfahrt: Führung in der Pfarrkirche St. Gordian und
  Epimachus in Stöttwang\, anschl. Einkehr
DESCRIPTION:https://www2.bistum-augsburg.de/gottesdienste/senioren-bildungs
 fahrt-fuehrung-in-der-pfarrkirche-st-gordian-und-epimachus-in-stoettwang-a
 nschl-einkehr_id1726945
DTSTART;TZID=Europe/Berlin:20260512T130000
DURATION:PT30M
LOCATION:St. Ulrich
END:VEVENT
END:VCALENDAR
