BEGIN:VCALENDAR
VERSION:2.0
PRODID:-//Sabre//Sabre VObject 4.5.8//EN
CALSCALE:GREGORIAN
BEGIN:VEVENT
UID:sabre-vobject-0f1268b6-c627-40e2-9d3e-dae3b24201db
DTSTAMP:20260425T224335Z
SUMMARY:Heilige Messe\, Gebet um Geistliche Berufe\, anschl. eucharistische
  Anbetung bis 19 Uhr
DESCRIPTION:https://www2.bistum-augsburg.de/gottesdienste/heilige-messe-geb
 et-um-geistliche-berufe-anschl-eucharistische-anbetung-bis-19-uhr_id172699
 6
DTSTART;TZID=Europe/Berlin:20260507T180000
DURATION:PT30M
LOCATION:Zum Guten Hirten
END:VEVENT
END:VCALENDAR
