BEGIN:VCALENDAR
VERSION:2.0
PRODID:-//Sabre//Sabre VObject 4.5.8//EN
CALSCALE:GREGORIAN
BEGIN:VEVENT
UID:sabre-vobject-8d72eab5-b153-496f-bc74-a8436b8d8608
DTSTAMP:20260424T172037Z
SUMMARY:St. Simpert: Pfarrgottesdienst m. Erstkommunionfeier
DESCRIPTION:https://www2.bistum-augsburg.de/gottesdienste/st-simpert-pfarrg
 ottesdienst-m-erstkommunionfeier_id1727010
DTSTART;TZID=Europe/Berlin:20260426T100000
DURATION:PT30M
LOCATION:St. Anna
END:VEVENT
END:VCALENDAR
