BEGIN:VCALENDAR
VERSION:2.0
PRODID:-//Sabre//Sabre VObject 4.5.8//EN
CALSCALE:GREGORIAN
BEGIN:VEVENT
UID:sabre-vobject-feadf0f6-7eea-448a-a3c5-2c7527aac078
DTSTAMP:20260423T155928Z
SUMMARY:Altenh.: Wortgottesdienst
DESCRIPTION:https://www2.bistum-augsburg.de/gottesdienste/altenh-wortgottes
 dienst_id1727013
DTSTART;TZID=Europe/Berlin:20260429T100000
DURATION:PT30M
LOCATION:St. Anna
END:VEVENT
END:VCALENDAR
