BEGIN:VCALENDAR
VERSION:2.0
PRODID:-//Sabre//Sabre VObject 4.5.8//EN
CALSCALE:GREGORIAN
BEGIN:VEVENT
UID:sabre-vobject-2171b27d-ef7f-439d-ba5d-f0d22261a40f
DTSTAMP:20260424T103831Z
SUMMARY:St. Anna: Heilige Messe entfällt
DESCRIPTION:https://www2.bistum-augsburg.de/gottesdienste/st-anna-heilige-m
 esse-entfaellt_id1727015
DTSTART;TZID=Europe/Berlin:20260430T190000
DURATION:PT30M
LOCATION:St. Anna
END:VEVENT
END:VCALENDAR
