BEGIN:VCALENDAR
VERSION:2.0
PRODID:-//Sabre//Sabre VObject 4.5.8//EN
CALSCALE:GREGORIAN
BEGIN:VEVENT
UID:sabre-vobject-b0949aa5-5f09-4ffa-b9a9-6370362f16a2
DTSTAMP:20260424T113015Z
SUMMARY:Taufe Kutscherauer Finn Elias
DESCRIPTION:https://www2.bistum-augsburg.de/gottesdienste/taufe-kutscheraue
 r-finn-elias_id1727119
DTSTART;TZID=Europe/Berlin:20260425T140000
DURATION:PT30M
LOCATION:Hlgst. Dreifaltigkeit
END:VEVENT
END:VCALENDAR
