BEGIN:VCALENDAR
VERSION:2.0
PRODID:-//Sabre//Sabre VObject 4.5.8//EN
CALSCALE:GREGORIAN
BEGIN:VEVENT
UID:sabre-vobject-fb73711b-6012-43fd-b6eb-0b27ae163e0b
DTSTAMP:20260424T193136Z
SUMMARY:und für alle Verstorbenen der letzten 10 Jahre im Monat
DESCRIPTION:https://www2.bistum-augsburg.de/gottesdienste/und-fuer-alle-ver
 storbenen-der-letzten-10-jahre-im-monat_id1727121
DTSTART;TZID=Europe/Berlin:20260507T190000
DURATION:PT30M
LOCATION:Mariä Himmelfahrt\, Schlottergasse 2\, 87758 Kronburg-Illerbeuren
END:VEVENT
END:VCALENDAR
