BEGIN:VCALENDAR
VERSION:2.0
PRODID:-//Sabre//Sabre VObject 4.5.8//EN
CALSCALE:GREGORIAN
BEGIN:VEVENT
UID:sabre-vobject-8c124b10-1275-4ecb-a76e-2d9d9c22c408
DTSTAMP:20260424T151049Z
SUMMARY:Bittprozession nach Kardorf dort anschl. Hl. Messe
DESCRIPTION:https://www2.bistum-augsburg.de/gottesdienste/bittprozession-na
 ch-kardorf-dort-anschl-hl-messe_id1727130
DTSTART;TZID=Europe/Berlin:20260511T183000
DURATION:PT30M
LOCATION:Mariä Himmelfahrt\, Schlottergasse 2\, 87758 Kronburg-Illerbeuren
END:VEVENT
END:VCALENDAR
