BEGIN:VCALENDAR
VERSION:2.0
PRODID:-//Sabre//Sabre VObject 4.5.8//EN
CALSCALE:GREGORIAN
BEGIN:VEVENT
UID:sabre-vobject-0897c4df-dbad-482c-ba66-cb28ad3d7abc
DTSTAMP:20260422T225252Z
SUMMARY:Vorabendmesse im Schlosshof im Gebetsgedenken f. d. Verst. d. freih
 errlichen Fam. v. Vequel-Westernach\, musikal. gest. v.d. Musikkappelle Kr
 onburg-Illerbeuren. Bei schlechtem Wetter findet d
DESCRIPTION:https://www2.bistum-augsburg.de/gottesdienste/vorabendmesse-im-
 schlosshof-im-gebetsgedenken-f-d-verst-d-freiherrlichen-fam-v-vequel-weste
 rnach-musikal-gest-v-d-musikkappelle-kronburg-illerbeuren-bei-schlechtem-w
 etter-findet-d_id1727150
DTSTART;TZID=Europe/Berlin:20260513T190000
DURATION:PT30M
LOCATION:Hlgst. Dreifaltigkeit\, Illerbeurer Str. 2\, 87758 Kronburg-Illerb
 euren
END:VEVENT
END:VCALENDAR
