BEGIN:VCALENDAR
VERSION:2.0
PRODID:-//Sabre//Sabre VObject 4.5.8//EN
CALSCALE:GREGORIAN
BEGIN:VEVENT
UID:sabre-vobject-bb4d9e12-94ae-4bbd-84a5-fac4089f089c
DTSTAMP:20260424T112704Z
SUMMARY:Bittgang von Sainbach nach Inchenhofen dort hl. Messe um günstige 
 Witterung\, eine gute Ernte und um Segen für die Fluren
DESCRIPTION:https://www2.bistum-augsburg.de/gottesdienste/bittgang-von-sain
 bach-nach-inchenhofen-dort-hl-messe-um-guenstige-witterung-eine-gute-ernte
 -und-um-segen-fuer-die-fluren_id1727161
DTSTART;TZID=Europe/Berlin:20260511T183000
DURATION:PT30M
LOCATION:St. Nikolaus\, Kirchpl. 3\, 86570 Inchenhofen
END:VEVENT
END:VCALENDAR
