BEGIN:VCALENDAR
VERSION:2.0
PRODID:-//Sabre//Sabre VObject 4.5.8//EN
CALSCALE:GREGORIAN
BEGIN:VEVENT
UID:sabre-vobject-52810e16-6953-47f5-9c26-734b8333f0bd
DTSTAMP:20260422T210618Z
SUMMARY:Barmherzigkeitsrosenkranz
DESCRIPTION:https://www2.bistum-augsburg.de/gottesdienste/barmherzigkeitsro
 senkranz_id1727170
DTSTART;TZID=Europe/Berlin:20260523T184500
DURATION:PT30M
LOCATION:St. Nikolaus\, Hitzenhofer Str. 1\, 87758 Kronburg-Kardorf
END:VEVENT
END:VCALENDAR
