BEGIN:VCALENDAR
VERSION:2.0
PRODID:-//Sabre//Sabre VObject 4.5.8//EN
CALSCALE:GREGORIAN
BEGIN:VEVENT
UID:sabre-vobject-8678c38b-eaa1-4ef6-abe6-3f37ed0615ab
DTSTAMP:20260425T021406Z
SUMMARY:Bittgang von Igenhausen nach Schönbach\,\ndort Bittmesse
DESCRIPTION:https://www2.bistum-augsburg.de/gottesdienste/bittgang-von-igen
 hausen-nach-schoenbach-dort-bittmesse_id1727174
DTSTART;TZID=Europe/Berlin:20260512T183000
DURATION:PT30M
LOCATION:St. Peter und Paul
END:VEVENT
END:VCALENDAR
