BEGIN:VCALENDAR
VERSION:2.0
PRODID:-//Sabre//Sabre VObject 4.5.8//EN
CALSCALE:GREGORIAN
BEGIN:VEVENT
UID:sabre-vobject-10389f1f-f3c6-42dc-a0cb-99b5d0be57d5
DTSTAMP:20260425T021144Z
SUMMARY:Bittgang nach Schönbach\,\ndort Bittmesse
DESCRIPTION:https://www2.bistum-augsburg.de/gottesdienste/bittgang-nach-sch
 oenbach-dort-bittmesse_id1727183
DTSTART;TZID=Europe/Berlin:20260512T183000
DURATION:PT30M
LOCATION:St. Michael\, Augsburger Str.\, 86568 Hollenbach
END:VEVENT
END:VCALENDAR
