BEGIN:VCALENDAR
VERSION:2.0
PRODID:-//Sabre//Sabre VObject 4.5.8//EN
CALSCALE:GREGORIAN
BEGIN:VEVENT
UID:sabre-vobject-f49fece6-6f1c-41b3-be21-aa0949e16108
DTSTAMP:20260425T190422Z
SUMMARY:feierliche Maiandacht an der Linde in Aschelsried
DESCRIPTION:https://www2.bistum-augsburg.de/gottesdienste/feierliche-maiand
 acht-an-der-linde-in-aschelsried_id1727189
DTSTART;TZID=Europe/Berlin:20260503T183000
DURATION:PT30M
LOCATION:St. Peter\, Schloßstraße 10\, 85123 Adelshausen
END:VEVENT
END:VCALENDAR
